BEGIN:VCALENDAR
PRODID:-//kirchenweb.ch gmbh//veranstaltungsausgabe v2.0//DE
VERSION:2.0
METHOD:PUBLISH
BEGIN:VEVENT
DTSTART:20250430T095000Z
DTEND:20250430T105000Z
LOCATION:KGH Thal\, Tobelmülistrasse 9\, 9425 Thal
TRANSP:OPAQUE
SEQUENCE:0
UID:19995-veranstaltung@evang-thal-lutzenberg.ch
DTSTAMP:20250322T093515Z
DESCRIPTION:Für alle Kinder der 3.-6. Klasse. Anmeldung bis Freitag
  vorher um 16 Uhr erforderlich.\n\nKontakt: Jnes Sarcinella\, Tel. 079 357
  78 08\n\nWeitere Infos:
  https://www.evang-thal-lutzenberg.ch/veranstaltung/19995
SUMMARY:Mittagslunch
PRIORITY:5
X-MICROSOFT-CDO-IMPORTANCE:1
CLASS:PUBLIC
END:VEVENT
END:VCALENDAR
