BEGIN:VCALENDAR
PRODID:-//kirchenweb.ch gmbh//veranstaltungsausgabe v2.0//DE
VERSION:2.0
METHOD:PUBLISH
BEGIN:VEVENT
DTSTART:20250703T081000Z
DTEND:20250703T091000Z
LOCATION:Alters- und Pflegeheim Hächleren\, Hächleren 8\, 9425 Thal
TRANSP:OPAQUE
SEQUENCE:0
UID:20903-veranstaltung@evang-thal-lutzenberg.ch
DTSTAMP:20241015T115600Z
DESCRIPTION:Kontakt: sekretariat@evang-thal-lutzenberg.ch\n\nWeitere
  Infos: https://www.evang-thal-lutzenberg.ch/veranstaltung/20903
SUMMARY:Andacht im Alters- und Pflegeheim Hächleren
PRIORITY:5
X-MICROSOFT-CDO-IMPORTANCE:1
CLASS:PUBLIC
END:VEVENT
END:VCALENDAR
