BEGIN:VCALENDAR
PRODID:-//kirchenweb.ch gmbh//veranstaltungsausgabe v2.0//DE
VERSION:2.0
METHOD:PUBLISH
BEGIN:VEVENT
DTSTART:20260621T080000Z
DTEND:20260621T090000Z
LOCATION:Evang. Kirche St. Margrethen\, Schutzmühlestrasse 3\, 9430 St.
  Margrethen
TRANSP:OPAQUE
SEQUENCE:0
UID:21417-veranstaltung@evang-thal-lutzenberg.ch
DTSTAMP:20260116T133011Z
DESCRIPTION:kein Gottesdienst in Thal/Buechen\n\nKontakt:
  sekretariat@evang-thal-lutzenberg.ch\n\nWeitere Infos:
  https://www.evang-thal-lutzenberg.ch/veranstaltung/21417
SUMMARY:Regionaler Gottesdienst in St. Margrethen (Chortreffen)
PRIORITY:5
X-MICROSOFT-CDO-IMPORTANCE:1
CLASS:PUBLIC
END:VEVENT
END:VCALENDAR
