BEGIN:VCALENDAR
PRODID:-//kirchenweb.ch gmbh//veranstaltungsausgabe v2.0//DE
VERSION:2.0
METHOD:PUBLISH
BEGIN:VEVENT
DTSTART:20260422T120000Z
DTEND:20260422T150000Z
LOCATION:KGH Thal\, Tobelmülistrasse 9\, 9425 Thal
TRANSP:OPAQUE
SEQUENCE:0
UID:22024-veranstaltung@evang-thal-lutzenberg.ch
DTSTAMP:20260129T174243Z
DESCRIPTION:Altem Papier ein zweites Leben geben: wir schöpfen unser
  Papier selbst. Verzieren es mit Blüten – Gräsern… und lernen so
  etwas über das Recyceln von Papier.\n\nKontakt: Pfrin. Barbara Köhler\,
  Tel. 071 886 45 35\n\nWeitere Infos:
  https://www.evang-thal-lutzenberg.ch/veranstaltung/22024
SUMMARY:Erlebnisprogramm: Papierschöpfen – eine alte Kunst
PRIORITY:5
X-MICROSOFT-CDO-IMPORTANCE:1
CLASS:PUBLIC
END:VEVENT
END:VCALENDAR
