BEGIN:VCALENDAR
PRODID:-//kirchenweb.ch gmbh//veranstaltungsausgabe v2.0//DE
VERSION:2.0
METHOD:PUBLISH
BEGIN:VEVENT
DTSTART:20260613T080000Z
DTEND:20260613T150000Z
LOCATION:.\, \,  Wildhaus
TRANSP:OPAQUE
SEQUENCE:0
UID:22031-veranstaltung@evang-thal-lutzenberg.ch
DTSTAMP:20251127T102113Z
DESCRIPTION:Die first steps Kurse werden von der Kantonalkirche
  organisiert und richten sich an Jugendliche\, die in der
  ausserschulischen Kinder- und Jugendarbeit Verantwortung und
  Leitungsfunktionen übernehmen wollen. Themen wie Gruppenleitung\,
  -phasen und -dynamik\, Konflikt- und Kommunikationsmethoden werden
  praktisch entdeckt und gemeinsam reflektiert. Spielerisch werden Methoden
  und Modelle in Verbindung mit Fragen aus dem Lager- oder Projektalltag
  gestellt. Im Mittelpunkt von first steps stehen die Persönlichkeit und
  Kompetenzen des jungen Menschen als Leitungsperson. Ziel ist es\, dass
  die Teilnehmenden Eigenverantwortung übernehmen und beteiligt sind. Die
  Weiterbildung wird im Kompetenzausweis „freiwillig engagiert“
  ausgewiesen. Dieser eignet sich hervorragend für die
  Bewerbungsunterlagen und den künftigen beruflichen Werdegang.\nBevor du
  dich via Pfefferstern anmeldest\, bitten wir dich\, mit der Kinder- und
  Jugendarbeit Kontakt aufzunehmen. In einem Gespräch tauschen wir uns
  darüber aus\, ob wir dir eine Anmeldung empfehlen und können deine
  Fragen und Anliegen besprechen.\n\nKontakt:
  sekretariat@evang-thal-lutzenberg.ch\n\nWeitere Infos:
  https://www.evang-thal-lutzenberg.ch/veranstaltung/22031
SUMMARY:Erlebnisprogramm: First steps 4
PRIORITY:5
X-MICROSOFT-CDO-IMPORTANCE:1
CLASS:PUBLIC
END:VEVENT
END:VCALENDAR
