BEGIN:VCALENDAR
PRODID:-//kirchenweb.ch gmbh//veranstaltungsausgabe v2.0//DE
VERSION:2.0
METHOD:PUBLISH
BEGIN:VEVENT
DTSTART:20260422T150000Z
DTEND:20260422T160000Z
LOCATION:KGH Thal\, Tobelmülistrasse 9\, 9425 Thal
TRANSP:OPAQUE
SEQUENCE:0
UID:22082-veranstaltung@evang-thal-lutzenberg.ch
DTSTAMP:20260129T173129Z
DESCRIPTION:Wenn Sie ein Anliegen oder eine Anregung in eine Sitzung
  einbringen möchten\, wenden Sie sich bitte in schriftlicher Form an das
  Sekretariat: https://sekretariat@evang-thal-lutzenberg.ch oder per Post:
  Evang. Kirchgemeinde Thal-Lutzenberg\, Tobelmülistrasse 9\, 9425 Thal.\n
 \nKontakt: sekretariat@evang-thal-lutzenberg.ch\n\nWeitere Infos:
  https://www.evang-thal-lutzenberg.ch/veranstaltung/22082
SUMMARY:Kivo-Sitzung
PRIORITY:5
X-MICROSOFT-CDO-IMPORTANCE:1
CLASS:PUBLIC
END:VEVENT
END:VCALENDAR
