BEGIN:VCALENDAR
PRODID:-//kirchenweb.ch gmbh//veranstaltungsausgabe v2.0//DE
VERSION:2.0
METHOD:PUBLISH
BEGIN:VEVENT
DTSTART:20251225T083000Z
DTEND:20251225T093000Z
LOCATION:Evang. Kirche Buechen\, Thalerstrasse 38a\, 9422 Staad
TRANSP:OPAQUE
SEQUENCE:0
UID:22151-veranstaltung@evang-thal-lutzenberg.ch
DTSTAMP:20251112T155600Z
DESCRIPTION:mit Abendmahl\nmit Pfarrerin Angelica Grewe und dem
  Kirchenchor\n\n\nKontakt: Pfarrerin Angelica Grewe\n\nWeitere Infos:
  https://www.evang-thal-lutzenberg.ch/veranstaltung/22151
SUMMARY:Gottesdienst in Buechen (Weihnachten)
PRIORITY:5
X-MICROSOFT-CDO-IMPORTANCE:1
CLASS:PUBLIC
END:VEVENT
END:VCALENDAR
