BEGIN:VCALENDAR
PRODID:-//kirchenweb.ch gmbh//veranstaltungsausgabe v2.0//DE
VERSION:2.0
METHOD:PUBLISH
BEGIN:VEVENT
DTSTART:20251209T080000Z
DTEND:20251209T100000Z
LOCATION:KGH Thal\, Tobelmülistrasse 9\, 9425 Thal
TRANSP:OPAQUE
SEQUENCE:0
UID:22655-veranstaltung@evang-thal-lutzenberg.ch
DTSTAMP:20251208T142754Z
DESCRIPTION:ä agfangni Lismete Dihei?\nkei Luscht\, ällei z’lisme –
 \naber bim Plaudere mitänand –\nbi Tee oder Kaffi und
  Wiähnachtsgebäck?\n \nmer sind am ZiitschtigMorge\nvom 09.00 – 11.00
  Uhr im KGH\n\nKontakt: Pfrin. Barbara Köhler\, Tel. 071 886 45 35\n
 \nWeitere Infos: https://www.evang-thal-lutzenberg.ch/veranstaltung/22655
SUMMARY:Strickmorgen
PRIORITY:5
X-MICROSOFT-CDO-IMPORTANCE:1
CLASS:PUBLIC
END:VEVENT
END:VCALENDAR
