BEGIN:VCALENDAR
PRODID:-//kirchenweb.ch gmbh//veranstaltungsausgabe v2.0//DE
VERSION:2.0
METHOD:PUBLISH
BEGIN:VEVENT
DTSTART:20260423T120000Z
DTEND:20260423T150000Z
LOCATION:KGH Buechen\, Thalerstrasse 38a\, 9422 Staad
TRANSP:OPAQUE
SEQUENCE:0
UID:22726-veranstaltung@evang-thal-lutzenberg.ch
DTSTAMP:20260115T082440Z
DESCRIPTION:Kontakt: Micky Bischof\, Tel. 071 855 36 80 oder 077 524 74 73
 \n\nWeitere Infos:
  https://www.evang-thal-lutzenberg.ch/veranstaltung/22726
SUMMARY:Bistro Buechen geöffnet
PRIORITY:5
X-MICROSOFT-CDO-IMPORTANCE:1
CLASS:PUBLIC
END:VEVENT
END:VCALENDAR
