BEGIN:VCALENDAR
PRODID:-//kirchenweb.ch gmbh//veranstaltungsausgabe v2.0//DE
VERSION:2.0
METHOD:PUBLISH
BEGIN:VEVENT
DTSTART:20260505T120000Z
DTEND:20260505T130000Z
LOCATION:KGH Thal\, Tobelmülistrasse 9\, 9425 Thal
TRANSP:OPAQUE
SEQUENCE:0
UID:22790-veranstaltung@evang-thal-lutzenberg.ch
DTSTAMP:20251104T151828Z
DESCRIPTION:Spielnachmittag\n\nKontakt: Ursula Enzler\, Telefon 071 888 33
  23\n\nWeitere Infos:
  https://www.evang-thal-lutzenberg.ch/veranstaltung/22790
SUMMARY:FV: Spielnachmittag
PRIORITY:5
X-MICROSOFT-CDO-IMPORTANCE:1
CLASS:PUBLIC
END:VEVENT
END:VCALENDAR
