BEGIN:VCALENDAR
PRODID:-//kirchenweb.ch gmbh//veranstaltungsausgabe v2.0//DE
VERSION:2.0
METHOD:PUBLISH
BEGIN:VEVENT
DTSTART:20260526T160000Z
DTEND:20260526T170000Z
LOCATION:KGH Buechen\, Thalerstrasse 38a\, 9422 Staad
TRANSP:OPAQUE
SEQUENCE:0
UID:22807-veranstaltung@evang-thal-lutzenberg.ch
DTSTAMP:20251107T151947Z
DESCRIPTION:Kontakt: Pfrin. Barbara Köhler\, Tel. 071 886 45 35\n
 \nWeitere Infos: https://www.evang-thal-lutzenberg.ch/veranstaltung/22807
SUMMARY:Konfirmandenunterricht in Buechen
PRIORITY:5
X-MICROSOFT-CDO-IMPORTANCE:1
CLASS:PUBLIC
END:VEVENT
END:VCALENDAR
