BEGIN:VCALENDAR
PRODID:-//kirchenweb.ch gmbh//veranstaltungsausgabe v2.0//DE
VERSION:2.0
METHOD:PUBLISH
BEGIN:VEVENT
DTSTART:20260512T160000Z
DTEND:20260512T170000Z
LOCATION:KGH Thal\, Tobelmülistrasse 9\, 9425 Thal
TRANSP:OPAQUE
SEQUENCE:0
UID:22811-veranstaltung@evang-thal-lutzenberg.ch
DTSTAMP:20260219T093309Z
DESCRIPTION:Kontakt: Pfrin. Barbara Köhler\, Tel. 071 886 45 35\n
 \nWeitere Infos: https://www.evang-thal-lutzenberg.ch/veranstaltung/22811
SUMMARY:Konfirmandenunterricht in Thal
PRIORITY:5
X-MICROSOFT-CDO-IMPORTANCE:1
CLASS:PUBLIC
END:VEVENT
END:VCALENDAR
