BEGIN:VCALENDAR
PRODID:-//kirchenweb.ch gmbh//veranstaltungsausgabe v2.0//DE
VERSION:2.0
METHOD:PUBLISH
BEGIN:VEVENT
DTSTART:20260613T070000Z
DTEND:20260613T080000Z
LOCATION:Evang. Kirche Buechen\, Thalerstrasse 38a\, 9422 Staad
TRANSP:OPAQUE
SEQUENCE:0
UID:22812-veranstaltung@evang-thal-lutzenberg.ch
DTSTAMP:20251107T152226Z
DESCRIPTION:Kontakt: Pfrin. Barbara Köhler\, Tel. 071 886 45 35\n
 \nWeitere Infos: https://www.evang-thal-lutzenberg.ch/veranstaltung/22812
SUMMARY:Probe Konfirmation
PRIORITY:5
X-MICROSOFT-CDO-IMPORTANCE:1
CLASS:PUBLIC
END:VEVENT
END:VCALENDAR
