BEGIN:VCALENDAR
PRODID:-//kirchenweb.ch gmbh//veranstaltungsausgabe v2.0//DE
VERSION:2.0
METHOD:PUBLISH
BEGIN:VEVENT
DTSTART:20260614T073000Z
DTEND:20260614T083000Z
LOCATION:Evang. Kirche Buechen\, Thalerstrasse 38a\, 9422 Staad
TRANSP:OPAQUE
SEQUENCE:0
UID:22815-veranstaltung@evang-thal-lutzenberg.ch
DTSTAMP:20260420T141408Z
DESCRIPTION:mit Pfarrerin Barbara Köhler\nanschl. Apéro\n\nKontakt:
  Pfarrerin Barbara Köhler\n\nWeitere Infos:
  https://www.evang-thal-lutzenberg.ch/veranstaltung/22815
SUMMARY:Gottesdienst in Buechen (Konfirmation)
PRIORITY:5
X-MICROSOFT-CDO-IMPORTANCE:1
CLASS:PUBLIC
END:VEVENT
END:VCALENDAR
