BEGIN:VCALENDAR
PRODID:-//kirchenweb.ch gmbh//veranstaltungsausgabe v2.0//DE
VERSION:2.0
METHOD:PUBLISH
BEGIN:VEVENT
DTSTART:20260506T073000Z
DTEND:20260506T083000Z
LOCATION:Alters- und Pflegeheim Trüeterhof\, Dorfstrasse 36\, 9425 Thal
TRANSP:OPAQUE
SEQUENCE:0
UID:22820-veranstaltung@evang-thal-lutzenberg.ch
DTSTAMP:20251112T145348Z
DESCRIPTION:Kontakt: sekretariat@evang-thal-lutzenberg.ch\n\nWeitere
  Infos: https://www.evang-thal-lutzenberg.ch/veranstaltung/22820
SUMMARY:Andacht im Alters- und Pflegeheim Trüeterhof
PRIORITY:5
X-MICROSOFT-CDO-IMPORTANCE:1
CLASS:PUBLIC
END:VEVENT
END:VCALENDAR
