BEGIN:VCALENDAR
PRODID:-//kirchenweb.ch gmbh//veranstaltungsausgabe v2.0//DE
VERSION:2.0
METHOD:PUBLISH
BEGIN:VEVENT
DTSTART:20260506T123000Z
DTEND:20260506T133000Z
LOCATION:Pfarreisaal Buechen\, Wartbüchel\, 9422 Staad
TRANSP:OPAQUE
SEQUENCE:0
UID:22846-veranstaltung@evang-thal-lutzenberg.ch
DTSTAMP:20251127T143443Z
DESCRIPTION:mit dem Verkehrsverein Staad\n\nKontakt: Maja Tobler\, Tel.
  079 446 53 81\n\nWeitere Infos:
  https://www.evang-thal-lutzenberg.ch/veranstaltung/22846
SUMMARY:Begegnungs-Nachmittag
PRIORITY:5
X-MICROSOFT-CDO-IMPORTANCE:1
CLASS:PUBLIC
END:VEVENT
END:VCALENDAR
