BEGIN:VCALENDAR
PRODID:-//kirchenweb.ch gmbh//veranstaltungsausgabe v2.0//DE
VERSION:2.0
METHOD:PUBLISH
BEGIN:VEVENT
DTSTART:20260503T080000Z
DTEND:20260503T090000Z
LOCATION:KGH Thal\, Tobelmülistrasse 9\, 9425 Thal
TRANSP:OPAQUE
SEQUENCE:0
UID:22886-veranstaltung@evang-thal-lutzenberg.ch
DTSTAMP:20251204T141928Z
DESCRIPTION:bis 4. Klasse\n\nKontakt: Manuela Fuhrer\n\nWeitere Infos:
  https://www.evang-thal-lutzenberg.ch/veranstaltung/22886
SUMMARY:Kinderkirche Thal
PRIORITY:5
X-MICROSOFT-CDO-IMPORTANCE:1
CLASS:PUBLIC
END:VEVENT
END:VCALENDAR
