BEGIN:VCALENDAR
PRODID:-//kirchenweb.ch gmbh//veranstaltungsausgabe v2.0//DE
VERSION:2.0
METHOD:PUBLISH
BEGIN:VEVENT
DTSTART:20260507T081000Z
DTEND:20260507T091000Z
LOCATION:Alters- und Pflegeheim Hächleren\, Hächleren 8\, 9425 Thal
TRANSP:OPAQUE
SEQUENCE:0
UID:22891-veranstaltung@evang-thal-lutzenberg.ch
DTSTAMP:20251204T142450Z
DESCRIPTION:Kontakt: sekretariat@evang-thal-lutzenberg.ch\n\nWeitere
  Infos: https://www.evang-thal-lutzenberg.ch/veranstaltung/22891
SUMMARY:Andacht im Alters- und Pflegeheim Hächleren
PRIORITY:5
X-MICROSOFT-CDO-IMPORTANCE:1
CLASS:PUBLIC
END:VEVENT
END:VCALENDAR
