BEGIN:VCALENDAR
PRODID:-//kirchenweb.ch gmbh//veranstaltungsausgabe v2.0//DE
VERSION:2.0
METHOD:PUBLISH
BEGIN:VEVENT
DTSTART:20260427T071500Z
DTEND:20260427T081500Z
LOCATION:Pfarreiheim Thal\, Rheineckerstrasse 3\, 9425 Thal
TRANSP:OPAQUE
SEQUENCE:0
UID:22948-veranstaltung@evang-thal-lutzenberg.ch
DTSTAMP:20251216T152812Z
DESCRIPTION:Kontakt: Heidi Sonderegger\, Tel. 071 888 40 88\n\nWeitere
  Infos: https://www.evang-thal-lutzenberg.ch/veranstaltung/22948
SUMMARY:Ökumenisches Morgenlob
PRIORITY:5
X-MICROSOFT-CDO-IMPORTANCE:1
CLASS:PUBLIC
END:VEVENT
END:VCALENDAR
