BEGIN:VCALENDAR
PRODID:-//kirchenweb.ch gmbh//veranstaltungsausgabe v2.0//DE
VERSION:2.0
METHOD:PUBLISH
BEGIN:VEVENT
DTSTART:20260430T180000Z
DTEND:20260430T190000Z
LOCATION:KGH Buechen\, Thalerstrasse 38a\, 9422 Staad
TRANSP:OPAQUE
SEQUENCE:0
UID:23184-veranstaltung@evang-thal-lutzenberg.ch
DTSTAMP:20260112T150516Z
DESCRIPTION:Hauptprobe Gd zur blauen Stunde\n\n\nKontakt: Robert Berchtold
 \n\nWeitere Infos:
  https://www.evang-thal-lutzenberg.ch/veranstaltung/23184
SUMMARY:Kirchenchor Buechen
PRIORITY:5
X-MICROSOFT-CDO-IMPORTANCE:1
CLASS:PUBLIC
END:VEVENT
END:VCALENDAR
