BEGIN:VCALENDAR
PRODID:-//kirchenweb.ch gmbh//veranstaltungsausgabe v2.0//DE
VERSION:2.0
METHOD:PUBLISH
BEGIN:VEVENT
DTSTART:20260507T180000Z
DTEND:20260507T190000Z
LOCATION:KGH Buechen\, Thalerstrasse 38a\, 9422 Staad
TRANSP:OPAQUE
SEQUENCE:0
UID:23185-veranstaltung@evang-thal-lutzenberg.ch
DTSTAMP:20251223T134623Z
DESCRIPTION:Probe\n\n\nKontakt: Robert Berchtold\n\nWeitere Infos:
  https://www.evang-thal-lutzenberg.ch/veranstaltung/23185
SUMMARY:Kirchenchor Buechen
PRIORITY:5
X-MICROSOFT-CDO-IMPORTANCE:1
CLASS:PUBLIC
END:VEVENT
END:VCALENDAR
