BEGIN:VCALENDAR
PRODID:-//kirchenweb.ch gmbh//veranstaltungsausgabe v2.0//DE
VERSION:2.0
METHOD:PUBLISH
BEGIN:VEVENT
DTSTART:20260617T180000Z
DTEND:20260617T190000Z
LOCATION:KGH Thal\, Tobelmülistrasse 9\, 9425 Thal
TRANSP:OPAQUE
SEQUENCE:0
UID:23225-veranstaltung@evang-thal-lutzenberg.ch
DTSTAMP:20251223T134742Z
DESCRIPTION:Probe\n\nKontakt: Urs Niederer\, Dirigent – Tel. 071 888 36
  76\n\n\nWeitere Infos:
  https://www.evang-thal-lutzenberg.ch/veranstaltung/23225
SUMMARY:Kirchenchor Thal
PRIORITY:5
X-MICROSOFT-CDO-IMPORTANCE:1
CLASS:PUBLIC
END:VEVENT
END:VCALENDAR
