BEGIN:VCALENDAR
PRODID:-//kirchenweb.ch gmbh//veranstaltungsausgabe v2.0//DE
VERSION:2.0
METHOD:PUBLISH
BEGIN:VEVENT
DTSTART:20260424T163000Z
DTEND:20260424T173000Z
LOCATION:KGH Thal\, Tobelmülistrasse 9\, 9425 Thal
TRANSP:OPAQUE
SEQUENCE:0
UID:23377-veranstaltung@evang-thal-lutzenberg.ch
DTSTAMP:20260106T124446Z
DESCRIPTION:Für Mädchen der 4. - 6. Klasse. \n\nKontakt:
  sekretariat@evang-thal-lutzenberg.ch\n\nWeitere Infos:
  https://www.evang-thal-lutzenberg.ch/veranstaltung/23377
SUMMARY:Girls-Club
PRIORITY:5
X-MICROSOFT-CDO-IMPORTANCE:1
CLASS:PUBLIC
END:VEVENT
END:VCALENDAR
