BEGIN:VCALENDAR
PRODID:-//kirchenweb.ch gmbh//veranstaltungsausgabe v2.0//DE
VERSION:2.0
METHOD:PUBLISH
BEGIN:VEVENT
DTSTART:20260426T081500Z
DTEND:20260426T091500Z
LOCATION:KGH Thal\, Tobelmülistrasse 9\, 9425 Thal
TRANSP:OPAQUE
SEQUENCE:0
UID:23501-veranstaltung@evang-thal-lutzenberg.ch
DTSTAMP:20260116T141248Z
DESCRIPTION:mit Pfarrerin Barbara Köhler\n\nKontakt: Pfarrerin Barbara
  Köhler\n\nWeitere Infos:
  https://www.evang-thal-lutzenberg.ch/veranstaltung/23501
SUMMARY:Gottesdienst im KGH Thal
PRIORITY:5
X-MICROSOFT-CDO-IMPORTANCE:1
CLASS:PUBLIC
END:VEVENT
END:VCALENDAR
