BEGIN:VCALENDAR
PRODID:-//kirchenweb.ch gmbh//veranstaltungsausgabe v2.0//DE
VERSION:2.0
METHOD:PUBLISH
BEGIN:VEVENT
DTSTART:20260503T081500Z
DTEND:20260503T091500Z
LOCATION:Paritätische Kirche Thal\, Kirchplatz\, 9425 Thal
TRANSP:OPAQUE
SEQUENCE:0
UID:23502-veranstaltung@evang-thal-lutzenberg.ch
DTSTAMP:20260116T125317Z
DESCRIPTION:mit Taufe\, mit Pfarrerin Barbara Köhler\n10 Uhr Kinderkirche
  im KGH\n\nKontakt: Pfarrerin Barbara Köhler\n\nWeitere Infos:
  https://www.evang-thal-lutzenberg.ch/veranstaltung/23502
SUMMARY:Gottesdienst in Thal
PRIORITY:5
X-MICROSOFT-CDO-IMPORTANCE:1
CLASS:PUBLIC
END:VEVENT
END:VCALENDAR
