BEGIN:VCALENDAR
PRODID:-//kirchenweb.ch gmbh//veranstaltungsausgabe v2.0//DE
VERSION:2.0
METHOD:PUBLISH
BEGIN:VEVENT
DTSTART:20260524T081500Z
DTEND:20260524T091500Z
LOCATION:Paritätische Kirche Thal\, Kirchplatz\, 9425 Thal
TRANSP:OPAQUE
SEQUENCE:0
UID:23504-veranstaltung@evang-thal-lutzenberg.ch
DTSTAMP:20260420T141026Z
DESCRIPTION:mit Abendmahl\, mit Pfarrerin Barbara Köhler und dem
  Kirchenchor Obertoggenburg\n\nKontakt: Pfarrerin Barbara Köhler\n
 \nWeitere Infos: https://www.evang-thal-lutzenberg.ch/veranstaltung/23504
SUMMARY:Gottesdienst in Thal
PRIORITY:5
X-MICROSOFT-CDO-IMPORTANCE:1
CLASS:PUBLIC
END:VEVENT
END:VCALENDAR
