BEGIN:VCALENDAR
PRODID:-//kirchenweb.ch gmbh//veranstaltungsausgabe v2.0//DE
VERSION:2.0
METHOD:PUBLISH
BEGIN:VEVENT
DTSTART:20260531T080000Z
DTEND:20260531T090000Z
LOCATION:Rosentürmli (auch bei schlechtem Wetter)\, Rebenstrasse 4\, 9425
  Thal
TRANSP:OPAQUE
SEQUENCE:0
UID:23505-veranstaltung@evang-thal-lutzenberg.ch
DTSTAMP:20260116T130322Z
DESCRIPTION:mit den Pfarrerinnen Barbara Köhler und Angelica Grewe\, den
  Pfarreibeauftragten Tibor Veres und Klaus Heither sowie dem Gospelchor
  life\nanschl. Festwirtschaft und Weindegustation\n\nKontakt: Pfarrerinnen
  Barbara Köhler und Angelica Grewe\, Pfarreibeauftragte Tibor Veres und
  Klaus Heither\n\nWeitere Infos:
  https://www.evang-thal-lutzenberg.ch/veranstaltung/23505
SUMMARY:Ökumenischer Wein- & Segensgottes-dienst - auch für Familien
PRIORITY:5
X-MICROSOFT-CDO-IMPORTANCE:1
CLASS:PUBLIC
END:VEVENT
END:VCALENDAR
