BEGIN:VCALENDAR
PRODID:-//kirchenweb.ch gmbh//veranstaltungsausgabe v2.0//DE
VERSION:2.0
METHOD:PUBLISH
BEGIN:VEVENT
DTSTART:20260419T073000Z
DTEND:20260419T083000Z
LOCATION:Evang. Kirche Buechen\, Thalerstrasse 38a\, 9422 Staad
TRANSP:OPAQUE
SEQUENCE:0
UID:23508-veranstaltung@evang-thal-lutzenberg.ch
DTSTAMP:20260305T102430Z
DESCRIPTION:mit Pfarrer Klaus Steinmetz\n\nKontakt: Pfarrer Klaus
  Steinmetz\n\nWeitere Infos:
  https://www.evang-thal-lutzenberg.ch/veranstaltung/23508
SUMMARY:Gottesdienst in Buechen
PRIORITY:5
X-MICROSOFT-CDO-IMPORTANCE:1
CLASS:PUBLIC
END:VEVENT
END:VCALENDAR
