BEGIN:VCALENDAR
PRODID:-//kirchenweb.ch gmbh//veranstaltungsausgabe v2.0//DE
VERSION:2.0
METHOD:PUBLISH
BEGIN:VEVENT
DTSTART:20260503T160000Z
DTEND:20260503T170000Z
LOCATION:Evang. Kirche Buechen\, Thalerstrasse 38a\, 9422 Staad
TRANSP:OPAQUE
SEQUENCE:0
UID:23509-veranstaltung@evang-thal-lutzenberg.ch
DTSTAMP:20260116T132207Z
DESCRIPTION:mit Pfarrerin Angelica Grewe und dem Kirchenchor\n\nKontakt:
  Pfarrerin Angelica Grewe\n\nWeitere Infos:
  https://www.evang-thal-lutzenberg.ch/veranstaltung/23509
SUMMARY:Gottesdienst zur blauen Stunde in Buechen
PRIORITY:5
X-MICROSOFT-CDO-IMPORTANCE:1
CLASS:PUBLIC
END:VEVENT
END:VCALENDAR
