BEGIN:VCALENDAR
PRODID:-//kirchenweb.ch gmbh//veranstaltungsausgabe v2.0//DE
VERSION:2.0
METHOD:PUBLISH
BEGIN:VEVENT
DTSTART:20260616T120000Z
DTEND:20260616T130000Z
LOCATION:KGH Buechen\, Thalerstrasse 38a\, 9422 Staad
TRANSP:OPAQUE
SEQUENCE:0
UID:23550-veranstaltung@evang-thal-lutzenberg.ch
DTSTAMP:20260119T125528Z
DESCRIPTION:Kontakt: Susi Heller\, 071 855 62 15\n\nWeitere Infos:
  https://www.evang-thal-lutzenberg.ch/veranstaltung/23550
SUMMARY:Spielnachmittag
PRIORITY:5
X-MICROSOFT-CDO-IMPORTANCE:1
CLASS:PUBLIC
END:VEVENT
END:VCALENDAR
