BEGIN:VCALENDAR
PRODID:-//kirchenweb.ch gmbh//veranstaltungsausgabe v2.0//DE
VERSION:2.0
METHOD:PUBLISH
BEGIN:VEVENT
DTSTART:20260425T080000Z
DTEND:20260425T090000Z
LOCATION:KGH Thal\, Tobelmülistrasse 9\, 9425 Thal
TRANSP:OPAQUE
SEQUENCE:0
UID:23761-veranstaltung@evang-thal-lutzenberg.ch
DTSTAMP:20260409T150209Z
DESCRIPTION:Kontakt: sekretariat@evang-thal-lutzenberg.ch\n\nWeitere
  Infos: https://www.evang-thal-lutzenberg.ch/veranstaltung/23761
SUMMARY:Digital Café
PRIORITY:5
X-MICROSOFT-CDO-IMPORTANCE:1
CLASS:PUBLIC
END:VEVENT
END:VCALENDAR
